Package: GBScleanR Version: 2.2.0 Command: rm -rf GBScleanR.buildbin-libdir && mkdir GBScleanR.buildbin-libdir && E:\biocbuild\bbs-3.21-bioc\R\bin\R.exe CMD INSTALL --build --library=GBScleanR.buildbin-libdir GBScleanR_2.2.0.tar.gz StartedAt: 2025-08-15 09:19:35 -0400 (Fri, 15 Aug 2025) EndedAt: 2025-08-15 09:21:54 -0400 (Fri, 15 Aug 2025) EllapsedTime: 139.0 seconds RetCode: 0 Status: OK PackageFile: GBScleanR_2.2.0.zip PackageFileSize: 1.989 MiB