Package: GBScleanR Version: 2.2.0 Command: /home/biocbuild/bbs-3.21-bioc/R/bin/R CMD INSTALL GBScleanR StartedAt: 2025-10-15 15:31:12 -0400 (Wed, 15 Oct 2025) EndedAt: 2025-10-15 15:31:58 -0400 (Wed, 15 Oct 2025) EllapsedTime: 46.5 seconds RetCode: 0 Status: OK