Package: GBScleanR Version: 2.2.0 Command: /Library/Frameworks/R.framework/Resources/bin/R CMD check --install=check:GBScleanR.install-out.txt --library=/Library/Frameworks/R.framework/Resources/library --no-vignettes --timings GBScleanR_2.2.0.tar.gz StartedAt: 2025-10-14 22:09:30 -0400 (Tue, 14 Oct 2025) EndedAt: 2025-10-14 22:13:16 -0400 (Tue, 14 Oct 2025) EllapsedTime: 226.1 seconds RetCode: 0 Status: OK CheckDir: GBScleanR.Rcheck Warnings: 0