Package: GAprediction Version: 1.34.0 Command: /Library/Frameworks/R.framework/Resources/bin/R CMD INSTALL GAprediction StartedAt: 2025-10-13 15:11:24 -0400 (Mon, 13 Oct 2025) EndedAt: 2025-10-13 15:12:05 -0400 (Mon, 13 Oct 2025) EllapsedTime: 40.9 seconds RetCode: 0 Status: OK