Package: GAprediction Version: 1.34.0 Command: rm -rf GAprediction.buildbin-libdir && mkdir GAprediction.buildbin-libdir && /Users/biocbuild/BBS/utils/build-universal.sh GAprediction_1.34.0.tar.gz /Library/Frameworks/R.framework/Resources/bin/R GAprediction.buildbin-libdir StartedAt: 2025-10-14 13:29:38 -0400 (Tue, 14 Oct 2025) EndedAt: 2025-10-14 13:30:09 -0400 (Tue, 14 Oct 2025) EllapsedTime: 31.0 seconds RetCode: 0 Status: OK PackageFile: GAprediction_1.34.0.tgz PackageFileSize: 885 KiB