Package: GA4GHshiny Version: 1.30.0 Command: rm -rf GA4GHshiny.buildbin-libdir && mkdir GA4GHshiny.buildbin-libdir && E:\biocbuild\bbs-3.21-bioc\R\bin\R.exe CMD INSTALL --build --library=GA4GHshiny.buildbin-libdir GA4GHshiny_1.30.0.tar.gz StartedAt: 2025-08-15 09:19:23 -0400 (Fri, 15 Aug 2025) EndedAt: 2025-08-15 09:20:16 -0400 (Fri, 15 Aug 2025) EllapsedTime: 53.2 seconds RetCode: 0 Status: OK PackageFile: GA4GHshiny_1.30.0.zip PackageFileSize: 479.4 KiB