Package: GA4GHshiny Version: 1.30.0 Command: /Library/Frameworks/R.framework/Resources/bin/R CMD INSTALL GA4GHshiny StartedAt: 2025-10-13 16:18:47 -0400 (Mon, 13 Oct 2025) EndedAt: 2025-10-13 16:20:10 -0400 (Mon, 13 Oct 2025) EllapsedTime: 83.3 seconds RetCode: 0 Status: OK