Package: GA4GHshiny Version: 1.30.0 Command: /Library/Frameworks/R.framework/Resources/bin/R CMD check --install=check:GA4GHshiny.install-out.txt --library=/Library/Frameworks/R.framework/Resources/library --no-vignettes --timings GA4GHshiny_1.30.0.tar.gz StartedAt: 2025-10-14 04:00:27 -0400 (Tue, 14 Oct 2025) EndedAt: 2025-10-14 04:10:07 -0400 (Tue, 14 Oct 2025) EllapsedTime: 579.4 seconds RetCode: 0 Status: OK CheckDir: GA4GHshiny.Rcheck Warnings: 0