Package: GA4GHshiny Version: 1.30.0 Command: /home/biocbuild/R/R/bin/R CMD INSTALL GA4GHshiny StartedAt: 2025-10-13 21:00:06 -0000 (Mon, 13 Oct 2025) EndedAt: 2025-10-13 21:01:03 -0000 (Mon, 13 Oct 2025) EllapsedTime: 57.8 seconds RetCode: 0 Status: OK