Package: GA4GHshiny Version: 1.30.0 Command: /home/biocbuild/R/R/bin/R CMD check --install=check:GA4GHshiny.install-out.txt --library=/home/biocbuild/R/R/site-library --no-vignettes --timings GA4GHshiny_1.30.0.tar.gz StartedAt: 2025-10-14 09:16:50 -0000 (Tue, 14 Oct 2025) EndedAt: 2025-10-14 09:23:05 -0000 (Tue, 14 Oct 2025) EllapsedTime: 375.2 seconds RetCode: 0 Status: OK CheckDir: GA4GHshiny.Rcheck Warnings: 0