Package: FlowSOM Version: 2.16.0 Command: /home/biocbuild/bbs-3.21-bioc/R/bin/R CMD build --keep-empty-dirs --no-resave-data FlowSOM StartedAt: 2025-10-15 17:33:16 -0400 (Wed, 15 Oct 2025) EndedAt: 2025-10-15 17:34:59 -0400 (Wed, 15 Oct 2025) EllapsedTime: 103.2 seconds RetCode: 0 Status: OK PackageFile: FlowSOM_2.16.0.tar.gz PackageFileSize: 4.888 MiB