Package: FlowSOM Version: 2.16.0 Command: /Library/Frameworks/R.framework/Resources/bin/R CMD INSTALL FlowSOM StartedAt: 2025-10-13 15:24:59 -0400 (Mon, 13 Oct 2025) EndedAt: 2025-10-13 15:25:32 -0400 (Mon, 13 Oct 2025) EllapsedTime: 33.5 seconds RetCode: 0 Status: OK