Package: FlowSOM Version: 2.16.0 Command: /Library/Frameworks/R.framework/Resources/bin/R CMD build --keep-empty-dirs --no-resave-data FlowSOM StartedAt: 2025-10-14 00:32:40 -0400 (Tue, 14 Oct 2025) EndedAt: 2025-10-14 00:34:52 -0400 (Tue, 14 Oct 2025) EllapsedTime: 131.6 seconds RetCode: 0 Status: OK PackageFile: FlowSOM_2.16.0.tar.gz PackageFileSize: 4.893 MiB