Package: FindIT2 Version: 1.14.0 Command: rm -rf FindIT2.buildbin-libdir && mkdir FindIT2.buildbin-libdir && E:\biocbuild\bbs-3.21-bioc\R\bin\R.exe CMD INSTALL --build --library=FindIT2.buildbin-libdir FindIT2_1.14.0.tar.gz StartedAt: 2025-08-15 09:17:45 -0400 (Fri, 15 Aug 2025) EndedAt: 2025-08-15 09:18:38 -0400 (Fri, 15 Aug 2025) EllapsedTime: 53.1 seconds RetCode: 0 Status: OK PackageFile: FindIT2_1.14.0.zip PackageFileSize: 1.543 MiB