Package: FindIT2 Version: 1.14.0 Command: /home/biocbuild/bbs-3.21-bioc/R/bin/R CMD build --keep-empty-dirs --no-resave-data FindIT2 StartedAt: 2025-10-15 17:31:00 -0400 (Wed, 15 Oct 2025) EndedAt: 2025-10-15 17:32:35 -0400 (Wed, 15 Oct 2025) EllapsedTime: 95.1 seconds RetCode: 0 Status: OK PackageFile: FindIT2_1.14.0.tar.gz PackageFileSize: 2.215 MiB