Package: FindIT2 Version: 1.14.0 Command: /Library/Frameworks/R.framework/Resources/bin/R CMD build --keep-empty-dirs --no-resave-data FindIT2 StartedAt: 2025-10-13 19:04:14 -0400 (Mon, 13 Oct 2025) EndedAt: 2025-10-13 19:07:29 -0400 (Mon, 13 Oct 2025) EllapsedTime: 195.1 seconds RetCode: 0 Status: OK PackageFile: FindIT2_1.14.0.tar.gz PackageFileSize: 2.32 MiB