Package: FindIT2 Version: 1.14.0 Command: rm -rf FindIT2.buildbin-libdir && mkdir FindIT2.buildbin-libdir && /Users/biocbuild/BBS/utils/build-universal.sh FindIT2_1.14.0.tar.gz /Library/Frameworks/R.framework/Resources/bin/R FindIT2.buildbin-libdir StartedAt: 2025-10-14 13:26:49 -0400 (Tue, 14 Oct 2025) EndedAt: 2025-10-14 13:28:57 -0400 (Tue, 14 Oct 2025) EllapsedTime: 127.8 seconds RetCode: 0 Status: OK PackageFile: FindIT2_1.14.0.tgz PackageFileSize: 2.439 MiB