Package: FindIT2 Version: 1.14.0 Command: rm -rf FindIT2.buildbin-libdir && mkdir FindIT2.buildbin-libdir && /Users/biocbuild/BBS/utils/build-universal.sh FindIT2_1.14.0.tar.gz /Library/Frameworks/R.framework/Resources/bin/R FindIT2.buildbin-libdir StartedAt: 2025-04-22 00:45:34 -0400 (Tue, 22 Apr 2025) EndedAt: 2025-04-22 00:46:25 -0400 (Tue, 22 Apr 2025) EllapsedTime: 51.3 seconds RetCode: 0 Status: OK PackageFile: FindIT2_1.14.0.tgz PackageFileSize: 2.437 MiB