Package: FindIT2 Version: 1.14.0 Command: /Library/Frameworks/R.framework/Resources/bin/R CMD check --install=check:FindIT2.install-out.txt --library=/Library/Frameworks/R.framework/Resources/library --no-vignettes --timings FindIT2_1.14.0.tar.gz StartedAt: 2025-10-14 21:39:09 -0400 (Tue, 14 Oct 2025) EndedAt: 2025-10-14 21:46:05 -0400 (Tue, 14 Oct 2025) EllapsedTime: 416.1 seconds RetCode: 0 Status: OK CheckDir: FindIT2.Rcheck Warnings: 0