Package: FeatSeekR Version: 1.8.0 Command: E:\biocbuild\bbs-3.21-bioc\R\bin\R.exe CMD INSTALL FeatSeekR StartedAt: 2025-08-14 16:25:41 -0400 (Thu, 14 Aug 2025) EndedAt: 2025-08-14 16:26:10 -0400 (Thu, 14 Aug 2025) EllapsedTime: 28.7 seconds RetCode: 0 Status: OK