Package: FeatSeekR Version: 1.8.0 Command: E:\biocbuild\bbs-3.21-bioc\R\bin\R.exe CMD check --no-multiarch --install=check:FeatSeekR.install-out.txt --library=E:\biocbuild\bbs-3.21-bioc\R\library --no-vignettes --timings FeatSeekR_1.8.0.tar.gz StartedAt: 2025-08-15 02:10:46 -0400 (Fri, 15 Aug 2025) EndedAt: 2025-08-15 02:13:35 -0400 (Fri, 15 Aug 2025) EllapsedTime: 168.3 seconds RetCode: 0 Status: OK CheckDir: FeatSeekR.Rcheck Warnings: 0