Package: FeatSeekR Version: 1.8.0 Command: rm -rf FeatSeekR.buildbin-libdir && mkdir FeatSeekR.buildbin-libdir && E:\biocbuild\bbs-3.21-bioc\R\bin\R.exe CMD INSTALL --build --library=FeatSeekR.buildbin-libdir FeatSeekR_1.8.0.tar.gz StartedAt: 2025-08-15 09:17:16 -0400 (Fri, 15 Aug 2025) EndedAt: 2025-08-15 09:17:45 -0400 (Fri, 15 Aug 2025) EllapsedTime: 29.0 seconds RetCode: 0 Status: OK PackageFile: FeatSeekR_1.8.0.zip PackageFileSize: 354.4 KiB