Package: FastqCleaner Version: 1.26.0 Command: /Library/Frameworks/R.framework/Resources/bin/R CMD check --install=check:FastqCleaner.install-out.txt --library=/Library/Frameworks/R.framework/Resources/library --no-vignettes --timings FastqCleaner_1.26.0.tar.gz StartedAt: 2025-04-21 20:42:05 -0400 (Mon, 21 Apr 2025) EndedAt: 2025-04-21 20:46:04 -0400 (Mon, 21 Apr 2025) EllapsedTime: 238.9 seconds RetCode: 0 Status: OK CheckDir: FastqCleaner.Rcheck Warnings: 0