Package: FastqCleaner Version: 1.26.0 Command: /Library/Frameworks/R.framework/Resources/bin/R CMD check --install=check:FastqCleaner.install-out.txt --library=/Library/Frameworks/R.framework/Resources/library --no-vignettes --timings FastqCleaner_1.26.0.tar.gz StartedAt: 2025-10-14 21:28:24 -0400 (Tue, 14 Oct 2025) EndedAt: 2025-10-14 21:32:43 -0400 (Tue, 14 Oct 2025) EllapsedTime: 258.7 seconds RetCode: 0 Status: OK CheckDir: FastqCleaner.Rcheck Warnings: 0