Package: FastqCleaner Version: 1.26.0 Command: /Library/Frameworks/R.framework/Resources/bin/R CMD build --keep-empty-dirs --no-resave-data FastqCleaner StartedAt: 2025-10-14 00:16:04 -0400 (Tue, 14 Oct 2025) EndedAt: 2025-10-14 00:17:32 -0400 (Tue, 14 Oct 2025) EllapsedTime: 87.3 seconds RetCode: 0 Status: OK PackageFile: FastqCleaner_1.26.0.tar.gz PackageFileSize: 4.356 MiB