Package: FamAgg Version: 1.36.0 Command: /home/biocbuild/bbs-3.21-bioc/R/bin/R CMD build --keep-empty-dirs --no-resave-data FamAgg StartedAt: 2025-10-15 17:29:04 -0400 (Wed, 15 Oct 2025) EndedAt: 2025-10-15 17:30:12 -0400 (Wed, 15 Oct 2025) EllapsedTime: 68.1 seconds RetCode: 0 Status: OK PackageFile: FamAgg_1.36.0.tar.gz PackageFileSize: 1.958 MiB