Package: FamAgg Version: 1.36.0 Command: /Library/Frameworks/R.framework/Resources/bin/R CMD INSTALL FamAgg StartedAt: 2025-10-13 15:20:53 -0400 (Mon, 13 Oct 2025) EndedAt: 2025-10-13 15:21:20 -0400 (Mon, 13 Oct 2025) EllapsedTime: 26.7 seconds RetCode: 0 Status: OK