Package: FamAgg Version: 1.36.0 Command: rm -rf FamAgg.buildbin-libdir && mkdir FamAgg.buildbin-libdir && /Users/biocbuild/BBS/utils/build-universal.sh FamAgg_1.36.0.tar.gz /Library/Frameworks/R.framework/Resources/bin/R FamAgg.buildbin-libdir StartedAt: 2025-10-15 18:28:52 -0400 (Wed, 15 Oct 2025) EndedAt: 2025-10-15 18:29:09 -0400 (Wed, 15 Oct 2025) EllapsedTime: 16.8 seconds RetCode: 0 Status: OK PackageFile: FamAgg_1.36.0.tgz PackageFileSize: 2.158 MiB