Package: FRGEpistasis Version: 1.44.0 Command: /home/biocbuild/bbs-3.21-bioc/R/bin/R CMD INSTALL FRGEpistasis StartedAt: 2025-10-15 15:07:33 -0400 (Wed, 15 Oct 2025) EndedAt: 2025-10-15 15:08:04 -0400 (Wed, 15 Oct 2025) EllapsedTime: 31.2 seconds RetCode: 0 Status: OK