Package: FRGEpistasis Version: 1.44.0 Command: /home/biocbuild/R/R/bin/R CMD check --install=check:FRGEpistasis.install-out.txt --library=/home/biocbuild/R/R/site-library --no-vignettes --timings FRGEpistasis_1.44.0.tar.gz StartedAt: 2025-10-14 09:15:57 -0000 (Tue, 14 Oct 2025) EndedAt: 2025-10-14 09:18:33 -0000 (Tue, 14 Oct 2025) EllapsedTime: 156.1 seconds RetCode: 0 Status: OK CheckDir: FRGEpistasis.Rcheck Warnings: 0