Package: FRGEpistasis Version: 1.44.0 Command: /home/biocbuild/R/R/bin/R CMD build --keep-empty-dirs --no-resave-data FRGEpistasis StartedAt: 2025-10-14 00:58:10 -0000 (Tue, 14 Oct 2025) EndedAt: 2025-10-14 00:58:26 -0000 (Tue, 14 Oct 2025) EllapsedTime: 16.0 seconds RetCode: 0 Status: OK PackageFile: FRGEpistasis_1.44.0.tar.gz PackageFileSize: 307.9 KiB