Package: FRGEpistasis Version: 1.44.0 Command: /Library/Frameworks/R.framework/Resources/bin/R CMD INSTALL FRGEpistasis StartedAt: 2025-04-21 15:04:31 -0400 (Mon, 21 Apr 2025) EndedAt: 2025-04-21 15:04:42 -0400 (Mon, 21 Apr 2025) EllapsedTime: 11.0 seconds RetCode: 0 Status: OK