Package: FRGEpistasis Version: 1.44.0 Command: rm -rf FRGEpistasis.buildbin-libdir && mkdir FRGEpistasis.buildbin-libdir && /Users/biocbuild/BBS/utils/build-universal.sh FRGEpistasis_1.44.0.tar.gz /Library/Frameworks/R.framework/Resources/bin/R FRGEpistasis.buildbin-libdir StartedAt: 2025-10-15 18:33:06 -0400 (Wed, 15 Oct 2025) EndedAt: 2025-10-15 18:33:15 -0400 (Wed, 15 Oct 2025) EllapsedTime: 8.9 seconds RetCode: 0 Status: OK PackageFile: FRGEpistasis_1.44.0.tgz PackageFileSize: 397.2 KiB