Package: FRGEpistasis Version: 1.44.0 Maintainer: Futao Zhang MaintainerEmail: futoaz at gmail.com git_url: https://git.bioconductor.org/packages/FRGEpistasis git_branch: RELEASE_3_21 git_last_commit: 394010d git_last_commit_date: 2025-04-15 10:30:22 -0400 (Tue, 15 Apr 2025)