Package: FRASER Version: 2.4.3 Command: /Library/Frameworks/R.framework/Resources/bin/R CMD check --install=check:FRASER.install-out.txt --library=/Library/Frameworks/R.framework/Resources/library --no-vignettes --timings FRASER_2.4.3.tar.gz StartedAt: 2025-10-14 21:58:08 -0400 (Tue, 14 Oct 2025) EndedAt: 2025-10-14 22:16:23 -0400 (Tue, 14 Oct 2025) EllapsedTime: 1094.5 seconds RetCode: 0 Status: OK CheckDir: FRASER.Rcheck Warnings: 0