Package: FRASER Version: 2.4.3 Command: /Library/Frameworks/R.framework/Resources/bin/R CMD build --keep-empty-dirs --no-resave-data FRASER StartedAt: 2025-10-14 00:35:57 -0400 (Tue, 14 Oct 2025) EndedAt: 2025-10-14 00:41:23 -0400 (Tue, 14 Oct 2025) EllapsedTime: 325.9 seconds RetCode: 0 Status: OK PackageFile: FRASER_2.4.3.tar.gz PackageFileSize: 2.469 MiB