Package: FRASER Version: 2.4.3 Command: rm -rf FRASER.buildbin-libdir && mkdir FRASER.buildbin-libdir && /Users/biocbuild/BBS/utils/build-universal.sh FRASER_2.4.3.tar.gz /Library/Frameworks/R.framework/Resources/bin/R FRASER.buildbin-libdir StartedAt: 2025-10-15 18:33:00 -0400 (Wed, 15 Oct 2025) EndedAt: 2025-10-15 18:34:36 -0400 (Wed, 15 Oct 2025) EllapsedTime: 95.9 seconds RetCode: 0 Status: OK PackageFile: FRASER_2.4.3.tgz PackageFileSize: 3.409 MiB