Package: FLAMES Version: 2.2.0 Command: /home/biocbuild/R/R/bin/R CMD INSTALL FLAMES StartedAt: 2025-10-13 21:15:26 -0000 (Mon, 13 Oct 2025) EndedAt: 2025-10-13 21:18:00 -0000 (Mon, 13 Oct 2025) EllapsedTime: 154.0 seconds RetCode: 0 Status: OK