Package: FLAMES Version: 2.2.0 Command: /home/biocbuild/R/R/bin/R CMD check --install=check:FLAMES.install-out.txt --library=/home/biocbuild/R/R/site-library --no-vignettes --timings FLAMES_2.2.0.tar.gz StartedAt: 2025-10-14 09:11:21 -0000 (Tue, 14 Oct 2025) EndedAt: 2025-10-14 09:20:50 -0000 (Tue, 14 Oct 2025) EllapsedTime: 569.5 seconds RetCode: 1 Status: ERROR CheckDir: FLAMES.Rcheck Warnings: NA