Package: FLAMES Version: 2.2.0 Command: /home/biocbuild/R/R/bin/R CMD build --keep-empty-dirs --no-resave-data FLAMES StartedAt: 2025-10-14 00:52:42 -0000 (Tue, 14 Oct 2025) EndedAt: 2025-10-14 00:58:03 -0000 (Tue, 14 Oct 2025) EllapsedTime: 320.1 seconds RetCode: 0 Status: OK PackageFile: FLAMES_2.2.0.tar.gz PackageFileSize: 3.882 MiB