Package: FELLA Version: 1.28.0 Command: chmod a+r FELLA -R && E:\biocbuild\bbs-3.21-bioc\R\bin\R.exe CMD build --keep-empty-dirs --no-resave-data FELLA StartedAt: 2025-08-14 19:05:03 -0400 (Thu, 14 Aug 2025) EndedAt: 2025-08-14 19:35:06 -0400 (Thu, 14 Aug 2025) EllapsedTime: 1803.2 seconds RetCode: 0 Status: OK PackageFile: FELLA_1.28.0.tar.gz PackageFileSize: 3.437 MiB