Package: ExploreModelMatrix Version: 1.20.1 Command: /home/biocbuild/bbs-3.21-bioc/R/bin/R CMD build --keep-empty-dirs --no-resave-data ExploreModelMatrix StartedAt: 2025-10-15 17:28:35 -0400 (Wed, 15 Oct 2025) EndedAt: 2025-10-15 17:28:53 -0400 (Wed, 15 Oct 2025) EllapsedTime: 18.0 seconds RetCode: 0 Status: OK PackageFile: ExploreModelMatrix_1.20.1.tar.gz PackageFileSize: 2.564 MiB