Package: ExploreModelMatrix Version: 1.20.1 Command: /Library/Frameworks/R.framework/Resources/bin/R CMD check --install=check:ExploreModelMatrix.install-out.txt --library=/Library/Frameworks/R.framework/Resources/library --no-vignettes --timings ExploreModelMatrix_1.20.1.tar.gz StartedAt: 2025-10-14 03:42:26 -0400 (Tue, 14 Oct 2025) EndedAt: 2025-10-14 03:45:07 -0400 (Tue, 14 Oct 2025) EllapsedTime: 161.2 seconds RetCode: 0 Status: OK CheckDir: ExploreModelMatrix.Rcheck Warnings: 0