Package: ExploreModelMatrix Version: 1.20.1 Command: /Library/Frameworks/R.framework/Resources/bin/R CMD build --keep-empty-dirs --no-resave-data ExploreModelMatrix StartedAt: 2025-10-13 19:00:04 -0400 (Mon, 13 Oct 2025) EndedAt: 2025-10-13 19:00:47 -0400 (Mon, 13 Oct 2025) EllapsedTime: 42.4 seconds RetCode: 0 Status: OK PackageFile: ExploreModelMatrix_1.20.1.tar.gz PackageFileSize: 2.611 MiB