Package: ExploreModelMatrix Version: 1.20.1 Command: /home/biocbuild/R/R/bin/R CMD build --keep-empty-dirs --no-resave-data ExploreModelMatrix StartedAt: 2025-10-14 00:48:31 -0000 (Tue, 14 Oct 2025) EndedAt: 2025-10-14 00:48:59 -0000 (Tue, 14 Oct 2025) EllapsedTime: 28.0 seconds RetCode: 0 Status: OK PackageFile: ExploreModelMatrix_1.20.1.tar.gz PackageFileSize: 2.587 MiB