Package: ExploreModelMatrix Version: 1.20.1 Command: /Library/Frameworks/R.framework/Resources/bin/R CMD INSTALL ExploreModelMatrix StartedAt: 2025-10-13 15:35:59 -0400 (Mon, 13 Oct 2025) EndedAt: 2025-10-13 15:36:09 -0400 (Mon, 13 Oct 2025) EllapsedTime: 10.5 seconds RetCode: 0 Status: OK