Package: ExploreModelMatrix Version: 1.20.1 Command: /Library/Frameworks/R.framework/Resources/bin/R CMD build --keep-empty-dirs --no-resave-data ExploreModelMatrix StartedAt: 2025-10-14 00:13:55 -0400 (Tue, 14 Oct 2025) EndedAt: 2025-10-14 00:14:18 -0400 (Tue, 14 Oct 2025) EllapsedTime: 22.7 seconds RetCode: 0 Status: OK PackageFile: ExploreModelMatrix_1.20.1.tar.gz PackageFileSize: 2.611 MiB