Package: ExploreModelMatrix Version: 1.20.1 Command: rm -rf ExploreModelMatrix.buildbin-libdir && mkdir ExploreModelMatrix.buildbin-libdir && /Users/biocbuild/BBS/utils/build-universal.sh ExploreModelMatrix_1.20.1.tar.gz /Library/Frameworks/R.framework/Resources/bin/R ExploreModelMatrix.buildbin-libdir StartedAt: 2025-10-15 18:28:22 -0400 (Wed, 15 Oct 2025) EndedAt: 2025-10-15 18:28:35 -0400 (Wed, 15 Oct 2025) EllapsedTime: 13.7 seconds RetCode: 0 Status: OK PackageFile: ExploreModelMatrix_1.20.1.tgz PackageFileSize: 2.67 MiB