Package: ExperimentHub Version: 2.16.1 Command: E:\biocbuild\bbs-3.21-bioc\R\bin\R.exe CMD INSTALL ExperimentHub StartedAt: 2025-08-14 16:07:44 -0400 (Thu, 14 Aug 2025) EndedAt: 2025-08-14 16:08:08 -0400 (Thu, 14 Aug 2025) EllapsedTime: 23.8 seconds RetCode: 0 Status: OK