Package: ExperimentHub Version: 2.16.1 Command: chmod a+r ExperimentHub -R && E:\biocbuild\bbs-3.21-bioc\R\bin\R.exe CMD build --keep-empty-dirs --no-resave-data ExperimentHub StartedAt: 2025-08-14 19:00:11 -0400 (Thu, 14 Aug 2025) EndedAt: 2025-08-14 19:00:52 -0400 (Thu, 14 Aug 2025) EllapsedTime: 41.5 seconds RetCode: 0 Status: OK PackageFile: ExperimentHub_2.16.1.tar.gz PackageFileSize: 489.6 KiB